BEGIN:VCALENDAR
VERSION:2.0
PRODID:-//hacksw/handcal//NONSGML v1.0//EN
BEGIN:VEVENT
SUMMARY:FAITES DU SPORT - USEP
UID:d1f2db35-e135-4287-80fe-925378639540
DTSTART:20260619T070000Z
DTEND:20260619T160000Z
LOCATION:Localisation 1 avenue Leo Lagrange 44600 Saint-Nazaire
CATEGORIES:Sportif
STATUS:
URL;VALUE=URI:https://www.officedessports44600.fr/evenements/2026/06/19/faites-du-sport-usep-2443586
END:VEVENT
END:VCALENDAR
