BEGIN:VCALENDAR
VERSION:2.0
PRODID:-//hacksw/handcal//NONSGML v1.0//EN
BEGIN:VEVENT
SUMMARY:FAITES DU SPORT - AQUAPARC
UID:0fbc6099-1793-4ae3-8b2b-469157649aec
DTSTART:20260618T174500Z
DTEND:20260618T193000Z
LOCATION:Localisation 1 avenue Leo Lagrange 44600 Saint-Nazaire
CATEGORIES:Sportif
STATUS:
URL;VALUE=URI:https://www.officedessports44600.fr/evenements/2026/06/18/faites-du-sport-aquaparc-2443540
END:VEVENT
END:VCALENDAR
