BEGIN:VCALENDAR
VERSION:2.0
PRODID:-//hacksw/handcal//NONSGML v1.0//EN
BEGIN:VEVENT
SUMMARY:BEACH SPORT
UID:e5484457-e8ba-4583-be03-a01b4beabd45
DTSTART:20260506T113000Z
DTEND:20260506T153000Z
LOCATION:Localisation place neptune 44600 ST NAZAIRE
CATEGORIES:Sportif
STATUS:
URL;VALUE=URI:https://www.officedessports44600.fr/evenements/2026/05/06/beach-sport-2443518
END:VEVENT
END:VCALENDAR
